BEGIN:VCALENDAR
VERSION:2.0
METHOD:PUBLISH
PRODID:-//Accessible Web Design//My Calendar//http://www.joedolson.com//v//EN';
BEGIN:VEVENT
UID:21-19
LOCATION:
SUMMARY:Exame de bolsas para as turmas de Agosto
DTSTAMP:20250726T090000
ORGANIZER;CN=Mauricio Motta:MAILTO:mauricio@profitec.com.br
DTSTART:20250726T090000
DTEND:20250726T113000
CATEGORIES:Eventos Gerais
URL;VALUE=URI:https://profitec.com.br/eventos/exame-de-bolsas-para-as-turmas-de-agosto/?mc_id=21
DESCRIPTION:Realização do exame de bolsas para as turmas de Agosto do Curso Profitec.
END:VEVENT
END:VCALENDAR