BEGIN:VCALENDAR
VERSION:2.0
METHOD:PUBLISH
PRODID:-//Accessible Web Design//My Calendar//http://www.joedolson.com//v//EN';
BEGIN:VEVENT
UID:22-20
LOCATION:
SUMMARY:Exame das ETECs
DTSTAMP:20250706T133000
ORGANIZER;CN=Mauricio Motta:MAILTO:mauricio@profitec.com.br
DTSTART:20250706T133000
DTEND:20250706T170000
CATEGORIES:Exames dos vestibulinhos
URL;VALUE=URI:https://profitec.com.br/eventos/exame-das-etecs/?mc_id=22
DESCRIPTION:Realização do exame do meio do ano para ingresso nas ETECs.
END:VEVENT
END:VCALENDAR