BEGIN:VCALENDAR
VERSION:2.0
METHOD:PUBLISH
PRODID:-//Accessible Web Design//My Calendar//http://www.joedolson.com//v//EN';
BEGIN:VEVENT
UID:23-21
LOCATION:
SUMMARY:Exame dos IFSPs
DTSTAMP:20250607
ORGANIZER;CN=Mauricio Motta:MAILTO:mauricio@profitec.com.br
DTSTART:20250607
DTEND:20250609
CATEGORIES:Exames dos vestibulinhos
URL;VALUE=URI:https://profitec.com.br/eventos/exame-dos-ifsps/?mc_id=23
DESCRIPTION:Realização do exame do meio do ano para ingresso dos IFSPs.
X-FUNAMBOL-ALLDAY: 1
X-MICROSOFT-CDO-ALLDAYEVENT: TRUE

END:VEVENT
END:VCALENDAR